BEGIN:VCALENDAR
VERSION:2.0
PRODID:icalendar-ruby
CALSCALE:GREGORIAN
BEGIN:VEVENT
DTSTAMP:20260420T082402Z
UID:16226947-7325-4a99-8057-3f488249a800
DTSTART;VALUE=DATE:20260506
DESCRIPTION:Property ID# 606439\, Locatoin: Harcourts Auction Rooms\, 1 Thi
 rd Avenue\, Tauranga\, Time: 11:30AM
SUMMARY:Auction for 22 Milton Road
END:VEVENT
END:VCALENDAR
