BEGIN:VCALENDAR
VERSION:2.0
PRODID:icalendar-ruby
CALSCALE:GREGORIAN
BEGIN:VEVENT
DTSTAMP:20260420T082305Z
UID:78307f5d-69f2-471c-ad29-a0f36ca9651f
DTSTART;VALUE=DATE:20250828
DESCRIPTION:Property ID# 595652\, Locatoin: Ray White Rotorua\, 1239 Amohia
  Street\, Rotorua (unless sold prior)\, Time: 3:00PM
SUMMARY:Auction for 
END:VEVENT
END:VCALENDAR
